BEGIN:VCALENDAR
VERSION:2.0
PRODID:-//Koura Apartments - ECPv5.3.1.1//NONSGML v1.0//EN
CALSCALE:GREGORIAN
METHOD:PUBLISH
X-WR-CALNAME:Koura Apartments
X-ORIGINAL-URL:https://kouraapartments.nz
X-WR-CALDESC:Events for Koura Apartments
BEGIN:VTIMEZONE
TZID:Pacific/Auckland
BEGIN:STANDARD
TZOFFSETFROM:+1300
TZOFFSETTO:+1200
TZNAME:NZST
DTSTART:20210403T140000
END:STANDARD
BEGIN:DAYLIGHT
TZOFFSETFROM:+1200
TZOFFSETTO:+1300
TZNAME:NZDT
DTSTART:20210925T140000
END:DAYLIGHT
END:VTIMEZONE
BEGIN:VEVENT
DTSTART;TZID=Pacific/Auckland:20210123T094500
DTEND;TZID=Pacific/Auckland:20210123T181500
DTSTAMP:20210122T164738
CREATED:20201229T020649Z
LAST-MODIFIED:20201229T030028Z
UID:17752-1611395100-1611425700@kouraapartments.nz
SUMMARY:Gibbston Valley Winery Summer Concert
DESCRIPTION:The Queenstown Summer Concert is set with the stunning backdrop of Gibbston Valley\, usually performed to sellout crowds\, the vibe is something to behold. Next year will see five incredible acts taking to the stage at the Whitianga Summer Concert in January\, and will feature Gin Wigmore\, The Angels\, Dragon\, Pseudo Echo and Mi-Sex.
URL:https://kouraapartments.nz/event/gibbston-valley-winery-summer-concert/
LOCATION:Gibbston Valley\, Gibbston Valley\, New Zealand
CATEGORIES:Music
END:VEVENT
BEGIN:VEVENT
DTSTART;TZID=Pacific/Auckland:20210321T110000
DTEND;TZID=Pacific/Auckland:20210321T180000
DTSTAMP:20210122T164738
CREATED:20201229T021103Z
LAST-MODIFIED:20201229T030023Z
UID:17756-1616324400-1616349600@kouraapartments.nz
SUMMARY:Ripe - The Wānaka Wine & Food Festival
DESCRIPTION:Central Otago’s acclaimed wine and food will take centre stage in Wānaka next year with the launch of Ripe\, a new festival for the region. Set at the stunning Corbridge Estate in Wānaka\, you’ll enjoy a day of music and entertainment to accompany the bountiful local wine and food from more than 30 local providers. \nThere’ll be a cooking demonstration from celebrated Kiwi chef Nadia Lim and the day finishes off to music by the Jordan Luck Band. Winemakers\, cheesemakers and chefs from around the region will be available to talk to and purchase wine from and people will be available to taste the produce. Maude\, Amisfield\, Māori Point\, Ceres\, Mishas\, Akarua are among many of the Central Otago wineries who will be present at the festival\, supported by food from the likes of The Stoaker Room and Hook plus beers from Wānaka brewery.
URL:https://kouraapartments.nz/event/ripe-the-wanaka-wine-food-festival/
LOCATION:Wanaka\, Wanaka\, New Zealand
CATEGORIES:Food & Wine
END:VEVENT
END:VCALENDAR